BEGIN:VCALENDAR
VERSION:2.0
PRODID:spatie/icalendar-generator
DESCRIPTION:Events from MetroWest Nonprofit Network
X-WR-CALDESC:Events from MetroWest Nonprofit Network
REFRESH-INTERVAL;VALUE=DURATION:PT1440M
X-PUBLISHED-TTL:PT1440M
BEGIN:VTIMEZONE
TZID:America/New_York
BEGIN:STANDARD
DTSTART:20251102T020000Z
TZOFFSETFROM:-0400
TZOFFSETTO:-0500
END:STANDARD
BEGIN:DAYLIGHT
DTSTART:20260308T020000Z
TZOFFSETFROM:-0500
TZOFFSETTO:-0400
END:DAYLIGHT
END:VTIMEZONE
BEGIN:VTIMEZONE
TZID:UTC
BEGIN:STANDARD
DTSTART:20250725T084347Z
TZOFFSETFROM:+0000
TZOFFSETTO:+0000
END:STANDARD
END:VTIMEZONE
BEGIN:VEVENT
UID:255-195
DTSTAMP:20260421T084347Z
SUMMARY:MWNN Expert in Residence Hours
LOCATION:
ORGANIZER;CN=Leah Parker Moldover:MAILTO:lparkermoldover@metrowestnonprofit
 .org
DTSTART;TZID=America/New_York:20260213T150000
DTEND;TZID=America/New_York:20260213T170000
X-ALT-DESC;FMTTYPE=TEXT/HTML:MWNN Expert in Residence (pilot initiative)  
 Nonprofit Strategy Consultations and Solve It Sessions: Sometimes you need
  input from a trusted expert\, some focused time\, and practical guidance 
 to move a specific challenge forward. MWNN’s Expert in Residence offers 
 one-on-one Nonprofit Strategy consultation sessions designed to help nonpr
 ofit leaders solve real issues in real time. These&hellip\;
CATEGORIES:General
URL;VALUE=URI:https://metrowestnonprofit.org/events/mwnn-expert-in-residenc
 e-hours/
METHOD:PUBLISH
END:VEVENT
END:VCALENDAR